BEGIN:VCALENDAR
VERSION:2.0
PRODID:-//Asociación Costarricense de Geotecnia - ECPv6.15.20//NONSGML v1.0//EN
CALSCALE:GREGORIAN
METHOD:PUBLISH
X-WR-CALNAME:Asociación Costarricense de Geotecnia
X-ORIGINAL-URL:https://geotecniacr.com
X-WR-CALDESC:Eventos para Asociación Costarricense de Geotecnia
REFRESH-INTERVAL;VALUE=DURATION:PT1H
X-Robots-Tag:noindex
X-PUBLISHED-TTL:PT1H
BEGIN:VTIMEZONE
TZID:America/Chicago
BEGIN:DAYLIGHT
TZOFFSETFROM:-0600
TZOFFSETTO:-0500
TZNAME:CDT
DTSTART:20240310T080000
END:DAYLIGHT
BEGIN:STANDARD
TZOFFSETFROM:-0500
TZOFFSETTO:-0600
TZNAME:CST
DTSTART:20241103T070000
END:STANDARD
BEGIN:DAYLIGHT
TZOFFSETFROM:-0600
TZOFFSETTO:-0500
TZNAME:CDT
DTSTART:20250309T080000
END:DAYLIGHT
BEGIN:STANDARD
TZOFFSETFROM:-0500
TZOFFSETTO:-0600
TZNAME:CST
DTSTART:20251102T070000
END:STANDARD
BEGIN:DAYLIGHT
TZOFFSETFROM:-0600
TZOFFSETTO:-0500
TZNAME:CDT
DTSTART:20260308T080000
END:DAYLIGHT
BEGIN:STANDARD
TZOFFSETFROM:-0500
TZOFFSETTO:-0600
TZNAME:CST
DTSTART:20261101T070000
END:STANDARD
END:VTIMEZONE
BEGIN:VEVENT
DTSTART;TZID=America/Chicago:20251112T120000
DTEND;TZID=America/Chicago:20251112T130000
DTSTAMP:20260423T175421
CREATED:20251110T234926Z
LAST-MODIFIED:20251110T234926Z
UID:6574-1762948800-1762952400@geotecniacr.com
SUMMARY:Cimentaciones Profundas: Tipos\, Instalaciones y Métodos de Ensayo para la Evaluación de la Integridad Estructural y la Capacidad de Carga Geotécnica
DESCRIPTION:¿Querés dominar los métodos de ensayo en cimentaciones profundas? Esta charla te lleva desde la teoría hasta la práctica con herramientas como CSL\, TIP y carga bidireccional. \nInscripciones: https://www.civiles.org/capacitaciones-y-actividades/cimentaciones-profundas
URL:https://geotecniacr.com/evento/cimentaciones-profundas-tipos-instalaciones-y-metodos-de-ensayo-para-la-evaluacion-de-la-integridad-estructural-y-la-capacidad-de-carga-geotecnica/
CATEGORIES:Eventos Recomendados / Auspiciados por ACG
ATTACH;FMTTYPE=image/jpeg:https://geotecniacr.com/wp-content/uploads/2025/11/CIMENTACIONES-PROFUNDAS.jpg
END:VEVENT
BEGIN:VEVENT
DTSTART;TZID=America/Chicago:20251119T170000
DTEND;TZID=America/Chicago:20251119T180000
DTSTAMP:20260423T175421
CREATED:20251028T181515Z
LAST-MODIFIED:20251114T180450Z
UID:4955-1763571600-1763575200@geotecniacr.com
SUMMARY:Coloquio Geoténico 2025
DESCRIPTION:ASOCIACIÓN COSTARRICENSE DE GEOTECNIACOLOQUIO GEOTÉCNICO \nLa Asociación Costarricense de Geotecnia invita a sus asociados al coloquio geotécnico: \n“Comparación entre las metodologías teóricas para el cálculo de capacidad de carga última en pilotes con respecto a pruebas de carga estática”a cargo del Ing. Aaron Vargas Monge \nEste mismo día se celebrará la Asamblea General Ordinaria N° 01-2025. \n📅 19 de noviembre🕔 5:00 PM📍 Casa Cinco – CFIA
URL:https://geotecniacr.com/evento/coloquio-geotenico-2025/
CATEGORIES:Coloquio
ATTACH;FMTTYPE=image/webp:https://geotecniacr.com/wp-content/uploads/2025/10/COLOQUIO-TECNICO-GEOTECNIA-2025.webp
ORGANIZER;CN="ASOCIACI%C3%93N COSTARRICENSE DE GEOTECNIA":MAILTO:acgeo@cfia.or.cr
END:VEVENT
BEGIN:VEVENT
DTSTART;TZID=America/Chicago:20251119T170000
DTEND;TZID=America/Chicago:20251119T190000
DTSTAMP:20260423T175421
CREATED:20251028T181007Z
LAST-MODIFIED:20251029T153254Z
UID:4950-1763571600-1763578800@geotecniacr.com
SUMMARY:ASAMBLEA GENERAL ORDINARIA N° 01-2025
DESCRIPTION:La Asociación Costarricense de Geotecnia (ACG)convoca a sus Asociados a la ASAMBLEA GENERAL ORDINARIA N° 01-2025a celebrarse: \nFecha: Miércoles 19 de noviembre del 2025Hora: 5:00 p.m. Primera convocatoria    6:00 p.m. Segunda convocatoriaLugar: Casa 5 – Colegio Federado de Ingenieros y Arquitectos del Costa Rica \nOrden del día:\nAsamblea Ordinaria: \n\n\nComprobación del quórum. \n\n\nLectura y aprobación del Acta AGO-01-2024. \n\n\nLectura y aprobación del informe del Presidente. \n\n\nLectura y aprobación del informe del Tesorero. \n\n\nLectura del informe del Fiscal. \n\n\nPlan de trabajo y aprobación del Anteproyecto de Presupuesto 2026. \n\n\nElección de los cargos de Junta Directiva: Presidente\, Secretario\, Vocal I. \n\n\nIniciativas de los Asociados. \n\n\nAtentamente\, \nIng. Stephanie Hernández MonteroSecretaria
URL:https://geotecniacr.com/evento/asamblea-general-ordinaria-n-01-2025/
CATEGORIES:Asamblea
ATTACH;FMTTYPE=image/jpeg:https://geotecniacr.com/wp-content/uploads/2025/10/ASAMBLEA-GEOTECNIA-2025.jpg
ORGANIZER;CN="ASOCIACI%C3%93N COSTARRICENSE DE GEOTECNIA":MAILTO:acgeo@cfia.or.cr
END:VEVENT
BEGIN:VEVENT
DTSTART;TZID=America/Chicago:20251105T180000
DTEND;TZID=America/Chicago:20251105T180000
DTSTAMP:20260423T175421
CREATED:20251030T033808Z
LAST-MODIFIED:20251030T033808Z
UID:4981-1762365600-1762365600@geotecniacr.com
SUMMARY:Avances en correlaciones de CPTu en suelos limosos
DESCRIPTION:Desde la Asociación Costarricense de Geotecnia les extendemos una cordial invitación a participar en la charla “Avances en correlaciones de CPTu en suelos limosos”\, a cargo de Ana Priscilla Paniagua López\, Ph.D.\, Especialista Geotécnica Senior en el Norwegian Geotechnical Institute (NGI).\nFecha: Miércoles 05 de Noviembre 2025\nHora: 6:00 p.m.\nLugar: Aula Lobby\, CFIA\nDuración: 60 min\nGratuito para Miembros al día de ACG. \nCUPO LIMITADO. Favor inscribirse mediante el siguiente enlace: https://forms.gle/k7Mizi2xmUnySaHV6\nSerá enviado un correo de confirmación para su participación.
URL:https://geotecniacr.com/evento/avances-en-correlaciones-de-cptu-en-suelos-limosos/
CATEGORIES:Charla
ATTACH;FMTTYPE=image/jpeg:https://geotecniacr.com/wp-content/uploads/2025/10/AVANCES-EN-CORRELACIONES-DE-CPTU-EN-SUELOS-LIMOSOS-CHARLA-GEOTECNIA.jpg
ORGANIZER;CN="ASOCIACI%C3%93N COSTARRICENSE DE GEOTECNIA":MAILTO:acgeo@cfia.or.cr
END:VEVENT
END:VCALENDAR