BEGIN:VCALENDAR
VERSION:2.0
PRODID:-//Asociación Costarricense de Geotecnia - ECPv6.15.20//NONSGML v1.0//EN
CALSCALE:GREGORIAN
METHOD:PUBLISH
X-ORIGINAL-URL:https://geotecniacr.com
X-WR-CALDESC:Eventos para Asociación Costarricense de Geotecnia
REFRESH-INTERVAL;VALUE=DURATION:PT1H
X-Robots-Tag:noindex
X-PUBLISHED-TTL:PT1H
BEGIN:VTIMEZONE
TZID:America/Chicago
BEGIN:DAYLIGHT
TZOFFSETFROM:-0600
TZOFFSETTO:-0500
TZNAME:CDT
DTSTART:20250309T080000
END:DAYLIGHT
BEGIN:STANDARD
TZOFFSETFROM:-0500
TZOFFSETTO:-0600
TZNAME:CST
DTSTART:20251102T070000
END:STANDARD
BEGIN:DAYLIGHT
TZOFFSETFROM:-0600
TZOFFSETTO:-0500
TZNAME:CDT
DTSTART:20260308T080000
END:DAYLIGHT
BEGIN:STANDARD
TZOFFSETFROM:-0500
TZOFFSETTO:-0600
TZNAME:CST
DTSTART:20261101T070000
END:STANDARD
BEGIN:DAYLIGHT
TZOFFSETFROM:-0600
TZOFFSETTO:-0500
TZNAME:CDT
DTSTART:20270314T080000
END:DAYLIGHT
BEGIN:STANDARD
TZOFFSETFROM:-0500
TZOFFSETTO:-0600
TZNAME:CST
DTSTART:20271107T070000
END:STANDARD
END:VTIMEZONE
BEGIN:VEVENT
DTSTART;TZID=America/Chicago:20260309T080000
DTEND;TZID=America/Chicago:20260309T100000
DTSTAMP:20260423T171658
CREATED:20260305T225229Z
LAST-MODIFIED:20260305T225230Z
UID:6888-1773043200-1773050400@geotecniacr.com
SUMMARY:Liderazgo Feminino en la Geotecia Latinoamericana
DESCRIPTION:Extendemos la cordial invitación de participación en esta charla\, a realizarse el día 09 de mayo destacando la participación de las líderes que integran los directorios de las sociedades de la ISSSMGE en Sudamérica. \n\n\n\n 9 de marzo de 2026\n 08:00 → México (CDMX)\, Guatemala\, El Salvador\, Honduras\, Nicaragua\, Costa Rica\n\n\nSerá un espacio de intercambio técnico\, visibilidad y motivación para toda la comunidad geotécnica.\n\n\nTransmision Online: https://lnkd.in/dP4ts8Jd
URL:https://geotecniacr.com/evento/liderazgo-feminino-en-la-geotecia-latinoamericana/
CATEGORIES:Charla
ATTACH;FMTTYPE=image/jpeg:https://geotecniacr.com/wp-content/uploads/2026/03/646859520_1330575422436500_1399222449113423369_n.jpg
END:VEVENT
END:VCALENDAR