BEGIN:VCALENDAR
VERSION:2.0
PRODID:-//Asociación Costarricense de Geotecnia - ECPv6.15.20//NONSGML v1.0//EN
CALSCALE:GREGORIAN
METHOD:PUBLISH
X-WR-CALNAME:Asociación Costarricense de Geotecnia
X-ORIGINAL-URL:https://geotecniacr.com
X-WR-CALDESC:Eventos para Asociación Costarricense de Geotecnia
REFRESH-INTERVAL;VALUE=DURATION:PT1H
X-Robots-Tag:noindex
X-PUBLISHED-TTL:PT1H
BEGIN:VTIMEZONE
TZID:America/Chicago
BEGIN:DAYLIGHT
TZOFFSETFROM:-0600
TZOFFSETTO:-0500
TZNAME:CDT
DTSTART:20250309T080000
END:DAYLIGHT
BEGIN:STANDARD
TZOFFSETFROM:-0500
TZOFFSETTO:-0600
TZNAME:CST
DTSTART:20251102T070000
END:STANDARD
BEGIN:DAYLIGHT
TZOFFSETFROM:-0600
TZOFFSETTO:-0500
TZNAME:CDT
DTSTART:20260308T080000
END:DAYLIGHT
BEGIN:STANDARD
TZOFFSETFROM:-0500
TZOFFSETTO:-0600
TZNAME:CST
DTSTART:20261101T070000
END:STANDARD
BEGIN:DAYLIGHT
TZOFFSETFROM:-0600
TZOFFSETTO:-0500
TZNAME:CDT
DTSTART:20270314T080000
END:DAYLIGHT
BEGIN:STANDARD
TZOFFSETFROM:-0500
TZOFFSETTO:-0600
TZNAME:CST
DTSTART:20271107T070000
END:STANDARD
END:VTIMEZONE
BEGIN:VEVENT
DTSTART;TZID=America/Chicago:20260309T080000
DTEND;TZID=America/Chicago:20260309T100000
DTSTAMP:20260423T152632
CREATED:20260305T225229Z
LAST-MODIFIED:20260305T225230Z
UID:6888-1773043200-1773050400@geotecniacr.com
SUMMARY:Liderazgo Feminino en la Geotecia Latinoamericana
DESCRIPTION:Extendemos la cordial invitación de participación en esta charla\, a realizarse el día 09 de mayo destacando la participación de las líderes que integran los directorios de las sociedades de la ISSSMGE en Sudamérica. \n\n\n\n 9 de marzo de 2026\n 08:00 → México (CDMX)\, Guatemala\, El Salvador\, Honduras\, Nicaragua\, Costa Rica\n\n\nSerá un espacio de intercambio técnico\, visibilidad y motivación para toda la comunidad geotécnica.\n\n\nTransmision Online: https://lnkd.in/dP4ts8Jd
URL:https://geotecniacr.com/evento/liderazgo-feminino-en-la-geotecia-latinoamericana/
CATEGORIES:Charla
ATTACH;FMTTYPE=image/jpeg:https://geotecniacr.com/wp-content/uploads/2026/03/646859520_1330575422436500_1399222449113423369_n.jpg
END:VEVENT
BEGIN:VEVENT
DTSTART;TZID=America/Chicago:20260319T180000
DTEND;TZID=America/Chicago:20260319T190000
DTSTAMP:20260423T152632
CREATED:20260311T194728Z
LAST-MODIFIED:20260311T194729Z
UID:6892-1773943200-1773946800@geotecniacr.com
SUMMARY:Charla “Infinitus: Monitoreo 360° en Ingeniería Civil”
DESCRIPTION:El Comité de la Enseñanza de la Geotecnia e Ingeniero Joven de la ACG\, extiende la cordial invitación a a la charla “Infinitus: Monitoreo 360° en Ingeniería Civil”\, a realizarse en la Universidad Fidélitas el día 19 de marzo a las 6:00 pm en el Auditorio. \n\n\n\nLa charla será impartida por el MSc. José Antonio Berrio Fernández-Caballero\, máster en Ingeniería Geológica de la Universidad Complutense de Madrid\, así como máster en Túneles y Trabajos Subterráneos por la Asociación Española de Túneles y Obras Subterráneas (AETOS).\n\n\nJosé Antonio Berrio Fernández-Caballero cuenta con 25 años de experiencia en ingeniería civil y geotécnica\, enfocada en instrumentación y monitoreo de túneles\, así como otros proyectos de infraestructura que incluyen: metros\, ferrocarriles\, carreteras y represas.
URL:https://geotecniacr.com/evento/charla-infinitus-monitoreo-360-en-ingenieria-civil/
CATEGORIES:Charla,Eventos Recomendados / Auspiciados por ACG
ATTACH;FMTTYPE=image/jpeg:https://geotecniacr.com/wp-content/uploads/2026/03/CHARLA-INFINITUS-MONITORE-360-EN-LA-INGENIERIA-CIVIL.jpg
END:VEVENT
BEGIN:VEVENT
DTSTART;TZID=America/Chicago:20260325T090000
DTEND;TZID=America/Chicago:20260325T100000
DTSTAMP:20260423T152632
CREATED:20260305T214933Z
LAST-MODIFIED:20260305T214934Z
UID:6884-1774429200-1774432800@geotecniacr.com
SUMMARY:Más allá del movimiento del terreno: hacia la incorporación de la licuación en la evaluación regional del riesgo
DESCRIPTION:La Asociación Costarricense de Geotecnia y el Comité Técnico de Geotecnia Sísmica invitan cordialmente a la charla:\n\n\n“Más allá del movimiento del terreno: hacia la incorporación de la licuación en la evaluación regional del riesgo”\n\n\nLa misma será el 25 de marzo de 2026\, a las 9:00 am.\nLos expositores serán Vitor Silva y Lana Todorović\, ambos de la organización GEM (Global Earthquake Model).\nLa charla se impartirá en inglés.\n\n\n\nEnlace de inscripción: Clic aquí
URL:https://geotecniacr.com/evento/mas-alla-del-movimiento-del-terreno-hacia-la-incorporacion-de-la-licuacion-en-la-evaluacion-regional-del-riesgo/
CATEGORIES:Charla
ATTACH;FMTTYPE=image/jpeg:https://geotecniacr.com/wp-content/uploads/2026/03/MAS-ALLA-DEL-MOVIMIENTO-DEL-TERRENO-2026.jpg
ORGANIZER;CN="ASOCIACI%C3%93N COSTARRICENSE DE GEOTECNIA":MAILTO:acgeo@cfia.or.cr
END:VEVENT
END:VCALENDAR