BEGIN:VCALENDAR
VERSION:2.0
PRODID:-//Asociación Costarricense de Geotecnia - ECPv6.15.20//NONSGML v1.0//EN
CALSCALE:GREGORIAN
METHOD:PUBLISH
X-ORIGINAL-URL:https://geotecniacr.com
X-WR-CALDESC:Eventos para Asociación Costarricense de Geotecnia
REFRESH-INTERVAL;VALUE=DURATION:PT1H
X-Robots-Tag:noindex
X-PUBLISHED-TTL:PT1H
BEGIN:VTIMEZONE
TZID:America/Chicago
BEGIN:DAYLIGHT
TZOFFSETFROM:-0600
TZOFFSETTO:-0500
TZNAME:CDT
DTSTART:20250309T080000
END:DAYLIGHT
BEGIN:STANDARD
TZOFFSETFROM:-0500
TZOFFSETTO:-0600
TZNAME:CST
DTSTART:20251102T070000
END:STANDARD
BEGIN:DAYLIGHT
TZOFFSETFROM:-0600
TZOFFSETTO:-0500
TZNAME:CDT
DTSTART:20260308T080000
END:DAYLIGHT
BEGIN:STANDARD
TZOFFSETFROM:-0500
TZOFFSETTO:-0600
TZNAME:CST
DTSTART:20261101T070000
END:STANDARD
BEGIN:DAYLIGHT
TZOFFSETFROM:-0600
TZOFFSETTO:-0500
TZNAME:CDT
DTSTART:20270314T080000
END:DAYLIGHT
BEGIN:STANDARD
TZOFFSETFROM:-0500
TZOFFSETTO:-0600
TZNAME:CST
DTSTART:20271107T070000
END:STANDARD
END:VTIMEZONE
BEGIN:VEVENT
DTSTART;TZID=America/Chicago:20260331T150000
DTEND;TZID=America/Chicago:20260331T160000
DTSTAMP:20260423T113602
CREATED:20260325T220712Z
LAST-MODIFIED:20260325T220957Z
UID:6896-1774969200-1774972800@geotecniacr.com
SUMMARY:ISRM Young Members' Seminar Series - 19th session
DESCRIPTION:El Comité Técnico de Mecánica de Rocas de la ACG extiende la invitación a participar en el webinar realizado por la Sociedad Internacional para Ingeniería en Mecánica de Rocas (ISRM) que contará con la participación del Ing. Isaac Núñez Martínez del Instituto Costarricense de Electricidad.\nLa actividad será este 31 de marzo a las 3:00 pm y es gratuita.  \nInscripciones aquí (+)
URL:https://geotecniacr.com/evento/isrm-young-members-seminar-series-19th-session/
CATEGORIES:Eventos Recomendados / Auspiciados por ACG,Webinar
ATTACH;FMTTYPE=image/jpeg:https://geotecniacr.com/wp-content/uploads/2026/03/ISRM-Young-Members-Seminar-Series-19th-session.jpg
END:VEVENT
END:VCALENDAR