BEGIN:VCALENDAR
VERSION:2.0
PRODID:-//Asociación Costarricense de Geotecnia - ECPv6.15.20//NONSGML v1.0//EN
CALSCALE:GREGORIAN
METHOD:PUBLISH
X-WR-CALNAME:Asociación Costarricense de Geotecnia
X-ORIGINAL-URL:https://geotecniacr.com
X-WR-CALDESC:Eventos para Asociación Costarricense de Geotecnia
REFRESH-INTERVAL;VALUE=DURATION:PT1H
X-Robots-Tag:noindex
X-PUBLISHED-TTL:PT1H
BEGIN:VTIMEZONE
TZID:America/Chicago
BEGIN:DAYLIGHT
TZOFFSETFROM:-0600
TZOFFSETTO:-0500
TZNAME:CDT
DTSTART:20240310T080000
END:DAYLIGHT
BEGIN:STANDARD
TZOFFSETFROM:-0500
TZOFFSETTO:-0600
TZNAME:CST
DTSTART:20241103T070000
END:STANDARD
BEGIN:DAYLIGHT
TZOFFSETFROM:-0600
TZOFFSETTO:-0500
TZNAME:CDT
DTSTART:20250309T080000
END:DAYLIGHT
BEGIN:STANDARD
TZOFFSETFROM:-0500
TZOFFSETTO:-0600
TZNAME:CST
DTSTART:20251102T070000
END:STANDARD
BEGIN:DAYLIGHT
TZOFFSETFROM:-0600
TZOFFSETTO:-0500
TZNAME:CDT
DTSTART:20260308T080000
END:DAYLIGHT
BEGIN:STANDARD
TZOFFSETFROM:-0500
TZOFFSETTO:-0600
TZNAME:CST
DTSTART:20261101T070000
END:STANDARD
END:VTIMEZONE
BEGIN:VEVENT
DTSTART;TZID=America/Chicago:20251105T180000
DTEND;TZID=America/Chicago:20251105T180000
DTSTAMP:20260423T111321
CREATED:20251030T033808Z
LAST-MODIFIED:20251030T033808Z
UID:4981-1762365600-1762365600@geotecniacr.com
SUMMARY:Avances en correlaciones de CPTu en suelos limosos
DESCRIPTION:Desde la Asociación Costarricense de Geotecnia les extendemos una cordial invitación a participar en la charla “Avances en correlaciones de CPTu en suelos limosos”\, a cargo de Ana Priscilla Paniagua López\, Ph.D.\, Especialista Geotécnica Senior en el Norwegian Geotechnical Institute (NGI).\nFecha: Miércoles 05 de Noviembre 2025\nHora: 6:00 p.m.\nLugar: Aula Lobby\, CFIA\nDuración: 60 min\nGratuito para Miembros al día de ACG. \nCUPO LIMITADO. Favor inscribirse mediante el siguiente enlace: https://forms.gle/k7Mizi2xmUnySaHV6\nSerá enviado un correo de confirmación para su participación.
URL:https://geotecniacr.com/evento/avances-en-correlaciones-de-cptu-en-suelos-limosos/
CATEGORIES:Charla
ATTACH;FMTTYPE=image/jpeg:https://geotecniacr.com/wp-content/uploads/2025/10/AVANCES-EN-CORRELACIONES-DE-CPTU-EN-SUELOS-LIMOSOS-CHARLA-GEOTECNIA.jpg
ORGANIZER;CN="ASOCIACI%C3%93N COSTARRICENSE DE GEOTECNIA":MAILTO:acgeo@cfia.or.cr
END:VEVENT
END:VCALENDAR